BEGIN:VCALENDAR
VERSION:2.0
PRODID:-//​静岡学園高等学校サッカー部オフィシャルサイト - ECPv6.15.12.2//NONSGML v1.0//EN
CALSCALE:GREGORIAN
METHOD:PUBLISH
X-ORIGINAL-URL:https://shizugaku.com
X-WR-CALDESC:​静岡学園高等学校サッカー部オフィシャルサイト のイベント
REFRESH-INTERVAL;VALUE=DURATION:PT1H
X-Robots-Tag:noindex
X-PUBLISHED-TTL:PT1H
BEGIN:VTIMEZONE
TZID:Asia/Tokyo
BEGIN:STANDARD
TZOFFSETFROM:+0900
TZOFFSETTO:+0900
TZNAME:JST
DTSTART:20250101T000000
END:STANDARD
END:VTIMEZONE
BEGIN:VEVENT
DTSTART;TZID=Asia/Tokyo:20260418T100000
DTEND;TZID=Asia/Tokyo:20260418T120000
DTSTAMP:20260420T081528
CREATED:20260401T115223Z
LAST-MODIFIED:20260401T115223Z
UID:3781-1776506400-1776513600@shizugaku.com
SUMMARY:(D)県Cリーグ vs浜松西
DESCRIPTION:
URL:https://shizugaku.com/event/d%e7%9c%8cc%e3%83%aa%e3%83%bc%e3%82%b0-vs%e6%b5%9c%e6%9d%be%e8%a5%bf/
LOCATION:ゆめりあサッカーG
END:VEVENT
BEGIN:VEVENT
DTSTART;TZID=Asia/Tokyo:20260418T110000
DTEND;TZID=Asia/Tokyo:20260418T130000
DTSTAMP:20260420T081528
CREATED:20260401T090118Z
LAST-MODIFIED:20260401T090118Z
UID:3748-1776510000-1776517200@shizugaku.com
SUMMARY:(A)プリンス東海 vs富士市立
DESCRIPTION:
URL:https://shizugaku.com/event/a%e3%83%97%e3%83%aa%e3%83%b3%e3%82%b9%e6%9d%b1%e6%b5%b7-vs%e5%af%8c%e5%a3%ab%e5%b8%82%e7%ab%8b/
LOCATION:時之栖A
END:VEVENT
BEGIN:VEVENT
DTSTART;TZID=Asia/Tokyo:20260418T123000
DTEND;TZID=Asia/Tokyo:20260418T143000
DTSTAMP:20260420T081528
CREATED:20260401T091927Z
LAST-MODIFIED:20260401T091927Z
UID:3769-1776515400-1776522600@shizugaku.com
SUMMARY:(C)県Bリーグ vs浜松開誠館3rd
DESCRIPTION:
URL:https://shizugaku.com/event/c%e7%9c%8cb%e3%83%aa%e3%83%bc%e3%82%b0-vs%e6%b5%9c%e6%9d%be%e9%96%8b%e8%aa%a0%e9%a4%a83rd/
LOCATION:清水桜が丘G
END:VEVENT
END:VCALENDAR