BEGIN:VCALENDAR
VERSION:2.0
PRODID:-//​静岡学園高等学校サッカー部オフィシャルサイト - ECPv6.15.12.2//NONSGML v1.0//EN
CALSCALE:GREGORIAN
METHOD:PUBLISH
X-WR-CALNAME:​静岡学園高等学校サッカー部オフィシャルサイト
X-ORIGINAL-URL:https://shizugaku.com
X-WR-CALDESC:​静岡学園高等学校サッカー部オフィシャルサイト のイベント
REFRESH-INTERVAL;VALUE=DURATION:PT1H
X-Robots-Tag:noindex
X-PUBLISHED-TTL:PT1H
BEGIN:VTIMEZONE
TZID:Asia/Tokyo
BEGIN:STANDARD
TZOFFSETFROM:+0900
TZOFFSETTO:+0900
TZNAME:JST
DTSTART:20250101T000000
END:STANDARD
END:VTIMEZONE
BEGIN:VEVENT
DTSTART;TZID=Asia/Tokyo:20260405T120000
DTEND;TZID=Asia/Tokyo:20260405T140000
DTSTAMP:20260420T081232
CREATED:20260401T114852Z
LAST-MODIFIED:20260401T114852Z
UID:3777-1775390400-1775397600@shizugaku.com
SUMMARY:(D)県Cリーグ vs島田商業
DESCRIPTION:
URL:https://shizugaku.com/event/d%e7%9c%8cc%e3%83%aa%e3%83%bc%e3%82%b0-vs%e5%b3%b6%e7%94%b0%e5%95%86%e6%a5%ad/
LOCATION:清水桜が丘G
END:VEVENT
BEGIN:VEVENT
DTSTART;TZID=Asia/Tokyo:20260405T120000
DTEND;TZID=Asia/Tokyo:20260405T140000
DTSTAMP:20260420T081232
CREATED:20260401T115718Z
LAST-MODIFIED:20260401T115718Z
UID:3786-1775390400-1775397600@shizugaku.com
SUMMARY:(1年)中部1部リーグ vs清水桜が丘3rd
DESCRIPTION:
URL:https://shizugaku.com/event/1%e5%b9%b4%e4%b8%ad%e9%83%a81%e9%83%a8%e3%83%aa%e3%83%bc%e3%82%b0-vs%e6%b8%85%e6%b0%b4%e6%a1%9c%e3%81%8c%e4%b8%983rd/
LOCATION:相良人工芝G
END:VEVENT
BEGIN:VEVENT
DTSTART;TZID=Asia/Tokyo:20260405T123000
DTEND;TZID=Asia/Tokyo:20260405T143000
DTSTAMP:20260420T081232
CREATED:20260401T091147Z
LAST-MODIFIED:20260401T091147Z
UID:3758-1775392200-1775399400@shizugaku.com
SUMMARY:(B)県Aリーグ vs科学技術
DESCRIPTION:
URL:https://shizugaku.com/event/b%e7%9c%8ca%e3%83%aa%e3%83%bc%e3%82%b0-vs%e7%a7%91%e5%ad%a6%e6%8a%80%e8%a1%93/
LOCATION:非公開: 開誠館総合G
END:VEVENT
END:VCALENDAR