BEGIN:VCALENDAR
VERSION:2.0
PRODID:-//​静岡学園高等学校サッカー部オフィシャルサイト - ECPv6.15.12.2//NONSGML v1.0//EN
CALSCALE:GREGORIAN
METHOD:PUBLISH
X-WR-CALNAME:​静岡学園高等学校サッカー部オフィシャルサイト
X-ORIGINAL-URL:https://shizugaku.com
X-WR-CALDESC:​静岡学園高等学校サッカー部オフィシャルサイト のイベント
REFRESH-INTERVAL;VALUE=DURATION:PT1H
X-Robots-Tag:noindex
X-PUBLISHED-TTL:PT1H
BEGIN:VTIMEZONE
TZID:Asia/Tokyo
BEGIN:STANDARD
TZOFFSETFROM:+0900
TZOFFSETTO:+0900
TZNAME:JST
DTSTART:20250101T000000
END:STANDARD
END:VTIMEZONE
BEGIN:VEVENT
DTSTART;TZID=Asia/Tokyo:20260125T130000
DTEND;TZID=Asia/Tokyo:20260125T150000
DTSTAMP:20260420T201720
CREATED:20260114T044652Z
LAST-MODIFIED:20260124T073832Z
UID:3619-1769346000-1769353200@shizugaku.com
SUMMARY:(A)新人戦 準々決勝vs浜松東
DESCRIPTION:
URL:https://shizugaku.com/event/a%e6%96%b0%e4%ba%ba%e6%88%a6-vs%e6%9c%aa%e5%ae%9a-3/
LOCATION:草薙陸上競技場
END:VEVENT
END:VCALENDAR