BEGIN:VCALENDAR
VERSION:2.0
PRODID:-//​静岡学園高等学校サッカー部オフィシャルサイト - ECPv6.15.12.2//NONSGML v1.0//EN
CALSCALE:GREGORIAN
METHOD:PUBLISH
X-WR-CALNAME:​静岡学園高等学校サッカー部オフィシャルサイト
X-ORIGINAL-URL:https://shizugaku.com
X-WR-CALDESC:​静岡学園高等学校サッカー部オフィシャルサイト のイベント
REFRESH-INTERVAL;VALUE=DURATION:PT1H
X-Robots-Tag:noindex
X-PUBLISHED-TTL:PT1H
BEGIN:VTIMEZONE
TZID:Asia/Tokyo
BEGIN:STANDARD
TZOFFSETFROM:+0900
TZOFFSETTO:+0900
TZNAME:JST
DTSTART:20250101T000000
END:STANDARD
END:VTIMEZONE
BEGIN:VEVENT
DTSTART;TZID=Asia/Tokyo:20260117T120000
DTEND;TZID=Asia/Tokyo:20260117T143000
DTSTAMP:20260420T201436
CREATED:20260114T044359Z
LAST-MODIFIED:20260114T044359Z
UID:3612-1768651200-1768660200@shizugaku.com
SUMMARY:(A)新人戦 vs浜北西
DESCRIPTION:
URL:https://shizugaku.com/event/a%e6%96%b0%e4%ba%ba%e6%88%a6-vs%e6%b5%9c%e5%8c%97%e8%a5%bf/
LOCATION:常葉GF
END:VEVENT
END:VCALENDAR