BEGIN:VCALENDAR
VERSION:2.0
PRODID:-//​静岡学園高等学校サッカー部オフィシャルサイト - ECPv6.15.12.2//NONSGML v1.0//EN
CALSCALE:GREGORIAN
METHOD:PUBLISH
X-WR-CALNAME:​静岡学園高等学校サッカー部オフィシャルサイト
X-ORIGINAL-URL:https://shizugaku.com
X-WR-CALDESC:​静岡学園高等学校サッカー部オフィシャルサイト のイベント
REFRESH-INTERVAL;VALUE=DURATION:PT1H
X-Robots-Tag:noindex
X-PUBLISHED-TTL:PT1H
BEGIN:VTIMEZONE
TZID:Asia/Tokyo
BEGIN:STANDARD
TZOFFSETFROM:+0900
TZOFFSETTO:+0900
TZNAME:JST
DTSTART:20240101T000000
END:STANDARD
END:VTIMEZONE
BEGIN:VEVENT
DTSTART;TZID=Asia/Tokyo:20251207T130000
DTEND;TZID=Asia/Tokyo:20251207T150000
DTSTAMP:20260421T000633
CREATED:20251030T044624Z
LAST-MODIFIED:20251030T044624Z
UID:3415-1765112400-1765119600@shizugaku.com
SUMMARY:(A)プレミアWEST vs神村学園
DESCRIPTION:
URL:https://shizugaku.com/event/a%e3%83%97%e3%83%ac%e3%83%9f%e3%82%a2west-vs%e7%a5%9e%e6%9d%91%e5%ad%a6%e5%9c%92/
LOCATION:時之栖A
END:VEVENT
END:VCALENDAR