BEGIN:VCALENDAR
VERSION:2.0
PRODID:-//​静岡学園高等学校サッカー部オフィシャルサイト - ECPv6.15.12.2//NONSGML v1.0//EN
CALSCALE:GREGORIAN
METHOD:PUBLISH
X-ORIGINAL-URL:https://shizugaku.com
X-WR-CALDESC:​静岡学園高等学校サッカー部オフィシャルサイト のイベント
REFRESH-INTERVAL;VALUE=DURATION:PT1H
X-Robots-Tag:noindex
X-PUBLISHED-TTL:PT1H
BEGIN:VTIMEZONE
TZID:Asia/Tokyo
BEGIN:STANDARD
TZOFFSETFROM:+0900
TZOFFSETTO:+0900
TZNAME:JST
DTSTART:20240101T000000
END:STANDARD
END:VTIMEZONE
BEGIN:VEVENT
DTSTART;TZID=Asia/Tokyo:20251129T100000
DTEND;TZID=Asia/Tokyo:20251129T120000
DTSTAMP:20260421T034356
CREATED:20251030T045526Z
LAST-MODIFIED:20251030T045526Z
UID:3423-1764410400-1764417600@shizugaku.com
SUMMARY:(1年)県Cリーグ vsオイスカ
DESCRIPTION:
URL:https://shizugaku.com/event/1%e5%b9%b4%e7%9c%8cc%e3%83%aa%e3%83%bc%e3%82%b0-vs%e3%82%aa%e3%82%a4%e3%82%b9%e3%82%ab/
LOCATION:オイスカ浜松国際高等学校
END:VEVENT
BEGIN:VEVENT
DTSTART;TZID=Asia/Tokyo:20251129T130000
DTEND;TZID=Asia/Tokyo:20251129T150000
DTSTAMP:20260421T034356
CREATED:20251030T042445Z
LAST-MODIFIED:20251030T042445Z
UID:3405-1764421200-1764428400@shizugaku.com
SUMMARY:(B)プリンス東海 vs名古屋グランパスU-18B
DESCRIPTION:
URL:https://shizugaku.com/event/b%e3%83%97%e3%83%aa%e3%83%b3%e3%82%b9%e6%9d%b1%e6%b5%b7-vs%e5%90%8d%e5%8f%a4%e5%b1%8b%e3%82%b0%e3%83%a9%e3%83%b3%e3%83%91%e3%82%b9u-18b/
LOCATION:非公開: フジスパーク
END:VEVENT
END:VCALENDAR