BEGIN:VCALENDAR
VERSION:2.0
PRODID:-//​静岡学園高等学校サッカー部オフィシャルサイト - ECPv6.15.12.2//NONSGML v1.0//EN
CALSCALE:GREGORIAN
METHOD:PUBLISH
X-WR-CALNAME:​静岡学園高等学校サッカー部オフィシャルサイト
X-ORIGINAL-URL:https://shizugaku.com
X-WR-CALDESC:​静岡学園高等学校サッカー部オフィシャルサイト のイベント
REFRESH-INTERVAL;VALUE=DURATION:PT1H
X-Robots-Tag:noindex
X-PUBLISHED-TTL:PT1H
BEGIN:VTIMEZONE
TZID:Asia/Tokyo
BEGIN:STANDARD
TZOFFSETFROM:+0900
TZOFFSETTO:+0900
TZNAME:JST
DTSTART:20240101T000000
END:STANDARD
END:VTIMEZONE
BEGIN:VEVENT
DTSTART;TZID=Asia/Tokyo:20251026T103000
DTEND;TZID=Asia/Tokyo:20251026T123000
DTSTAMP:20260421T070021
CREATED:20251021T235048Z
LAST-MODIFIED:20251021T235551Z
UID:3359-1761474600-1761481800@shizugaku.com
SUMMARY:選手権 決勝T1回戦 vs浜名
DESCRIPTION:
URL:https://shizugaku.com/event/%e9%81%b8%e6%89%8b%e6%a8%a9-%e6%b1%ba%e5%8b%9dt-1%e5%9b%9e%e6%88%a6/
LOCATION:藤枝総合運動公園サッカー場
END:VEVENT
END:VCALENDAR