BEGIN:VCALENDAR
VERSION:2.0
PRODID:-//​静岡学園高等学校サッカー部オフィシャルサイト - ECPv6.15.12.2//NONSGML v1.0//EN
CALSCALE:GREGORIAN
METHOD:PUBLISH
X-ORIGINAL-URL:https://shizugaku.com
X-WR-CALDESC:​静岡学園高等学校サッカー部オフィシャルサイト のイベント
REFRESH-INTERVAL;VALUE=DURATION:PT1H
X-Robots-Tag:noindex
X-PUBLISHED-TTL:PT1H
BEGIN:VTIMEZONE
TZID:Asia/Tokyo
BEGIN:STANDARD
TZOFFSETFROM:+0900
TZOFFSETTO:+0900
TZNAME:JST
DTSTART:20240101T000000
END:STANDARD
END:VTIMEZONE
BEGIN:VEVENT
DTSTART;TZID=Asia/Tokyo:20250923T100000
DTEND;TZID=Asia/Tokyo:20250923T120000
DTSTAMP:20260421T101146
CREATED:20250916T133536Z
LAST-MODIFIED:20250916T133536Z
UID:3200-1758621600-1758628800@shizugaku.com
SUMMARY:(D)県Bリーグ vs静清(延期分)
DESCRIPTION:
URL:https://shizugaku.com/event/d%e7%9c%8cb%e3%83%aa%e3%83%bc%e3%82%b0-vs%e9%9d%99%e6%b8%85%e5%bb%b6%e6%9c%9f%e5%88%86/
LOCATION:時之栖舟久保F
END:VEVENT
BEGIN:VEVENT
DTSTART;TZID=Asia/Tokyo:20250923T123000
DTEND;TZID=Asia/Tokyo:20250923T143000
DTSTAMP:20260421T101146
CREATED:20250916T133440Z
LAST-MODIFIED:20250916T133633Z
UID:3196-1758630600-1758637800@shizugaku.com
SUMMARY:(C)県Aリーグ vs清水東(延期分)
DESCRIPTION:
URL:https://shizugaku.com/event/c%e7%9c%8ca%e3%83%aa%e3%83%bc%e3%82%b0-vs%e6%b8%85%e6%b0%b4%e6%9d%b1%e5%bb%b6%e6%9c%9f%e5%88%86/
LOCATION:時之栖舟久保F
END:VEVENT
END:VCALENDAR