BEGIN:VCALENDAR
VERSION:2.0
PRODID:-//​静岡学園高等学校サッカー部オフィシャルサイト - ECPv6.15.12.2//NONSGML v1.0//EN
CALSCALE:GREGORIAN
METHOD:PUBLISH
X-ORIGINAL-URL:https://shizugaku.com
X-WR-CALDESC:​静岡学園高等学校サッカー部オフィシャルサイト のイベント
REFRESH-INTERVAL;VALUE=DURATION:PT1H
X-Robots-Tag:noindex
X-PUBLISHED-TTL:PT1H
BEGIN:VTIMEZONE
TZID:Asia/Tokyo
BEGIN:STANDARD
TZOFFSETFROM:+0900
TZOFFSETTO:+0900
TZNAME:JST
DTSTART:20240101T000000
END:STANDARD
END:VTIMEZONE
BEGIN:VEVENT
DTSTART;TZID=Asia/Tokyo:20251206T130000
DTEND;TZID=Asia/Tokyo:20251206T150000
DTSTAMP:20260420T202039
CREATED:20251030T042622Z
LAST-MODIFIED:20251030T042622Z
UID:3407-1765026000-1765033200@shizugaku.com
SUMMARY:(B)プリンス東海 vs浜松開誠館
DESCRIPTION:
URL:https://shizugaku.com/event/b%e3%83%97%e3%83%aa%e3%83%b3%e3%82%b9%e6%9d%b1%e6%b5%b7-vs%e6%b5%9c%e6%9d%be%e9%96%8b%e8%aa%a0%e9%a4%a8/
LOCATION:浜松開誠館総合G
END:VEVENT
BEGIN:VEVENT
DTSTART;TZID=Asia/Tokyo:20251207T130000
DTEND;TZID=Asia/Tokyo:20251207T150000
DTSTAMP:20260420T202039
CREATED:20251030T044624Z
LAST-MODIFIED:20251030T044624Z
UID:3415-1765112400-1765119600@shizugaku.com
SUMMARY:(A)プレミアWEST vs神村学園
DESCRIPTION:
URL:https://shizugaku.com/event/a%e3%83%97%e3%83%ac%e3%83%9f%e3%82%a2west-vs%e7%a5%9e%e6%9d%91%e5%ad%a6%e5%9c%92/
LOCATION:時之栖A
END:VEVENT
BEGIN:VEVENT
DTSTART;TZID=Asia/Tokyo:20251214T130000
DTEND;TZID=Asia/Tokyo:20251214T150000
DTSTAMP:20260420T202039
CREATED:20251030T044819Z
LAST-MODIFIED:20251030T044819Z
UID:3417-1765717200-1765724400@shizugaku.com
SUMMARY:(A)プレミアWEST vsサンフレッチェ広島F.Cユース
DESCRIPTION:
URL:https://shizugaku.com/event/a%e3%83%97%e3%83%ac%e3%83%9f%e3%82%a2west-vs%e3%82%b5%e3%83%b3%e3%83%95%e3%83%ac%e3%83%83%e3%83%81%e3%82%a7%e5%ba%83%e5%b3%b6f-c%e3%83%a6%e3%83%bc%e3%82%b9/
LOCATION:安芸高田市サッカー公園
END:VEVENT
END:VCALENDAR