BEGIN:VCALENDAR
VERSION:2.0
PRODID:-//​静岡学園高等学校サッカー部オフィシャルサイト - ECPv6.15.12.2//NONSGML v1.0//EN
CALSCALE:GREGORIAN
METHOD:PUBLISH
X-WR-CALNAME:​静岡学園高等学校サッカー部オフィシャルサイト
X-ORIGINAL-URL:https://shizugaku.com
X-WR-CALDESC:​静岡学園高等学校サッカー部オフィシャルサイト のイベント
REFRESH-INTERVAL;VALUE=DURATION:PT1H
X-Robots-Tag:noindex
X-PUBLISHED-TTL:PT1H
BEGIN:VTIMEZONE
TZID:Asia/Tokyo
BEGIN:STANDARD
TZOFFSETFROM:+0900
TZOFFSETTO:+0900
TZNAME:JST
DTSTART:20240101T000000
END:STANDARD
END:VTIMEZONE
BEGIN:VEVENT
DTSTART;TZID=Asia/Tokyo:20250913T090000
DTEND;TZID=Asia/Tokyo:20250915T170000
DTSTAMP:20260421T064819
CREATED:20250909T043744Z
LAST-MODIFIED:20250910T012408Z
UID:3076-1757754000-1757955600@shizugaku.com
SUMMARY:(1年)NBカップ
DESCRIPTION:
URL:https://shizugaku.com/event/nb%e3%82%ab%e3%83%83%e3%83%97/
LOCATION:時之栖
END:VEVENT
BEGIN:VEVENT
DTSTART;TZID=Asia/Tokyo:20250910T100000
DTEND;TZID=Asia/Tokyo:20250910T140000
DTSTAMP:20260421T064819
CREATED:20250910T014016Z
LAST-MODIFIED:20250910T014016Z
UID:3148-1757498400-1757512800@shizugaku.com
SUMMARY:(C)TM vs共愛学園
DESCRIPTION:
URL:https://shizugaku.com/event/ctm-vs%e5%85%b1%e6%84%9b%e5%ad%a6%e5%9c%92/
LOCATION:非公開: フジスパーク
END:VEVENT
END:VCALENDAR