BEGIN:VCALENDAR
VERSION:2.0
PRODID:-//​静岡学園高等学校サッカー部オフィシャルサイト - ECPv6.15.12.2//NONSGML v1.0//EN
CALSCALE:GREGORIAN
METHOD:PUBLISH
X-WR-CALNAME:​静岡学園高等学校サッカー部オフィシャルサイト
X-ORIGINAL-URL:https://shizugaku.com
X-WR-CALDESC:​静岡学園高等学校サッカー部オフィシャルサイト のイベント
REFRESH-INTERVAL;VALUE=DURATION:PT1H
X-Robots-Tag:noindex
X-PUBLISHED-TTL:PT1H
BEGIN:VTIMEZONE
TZID:Asia/Tokyo
BEGIN:STANDARD
TZOFFSETFROM:+0900
TZOFFSETTO:+0900
TZNAME:JST
DTSTART:20240101T000000
END:STANDARD
END:VTIMEZONE
BEGIN:VEVENT
DTSTART;TZID=Asia/Tokyo:20251013T130000
DTEND;TZID=Asia/Tokyo:20251013T150000
DTSTAMP:20260421T095510
CREATED:20251007T061930Z
LAST-MODIFIED:20251007T061930Z
UID:3295-1760360400-1760367600@shizugaku.com
SUMMARY:(B)プリンス東海 vs清水エスパルス
DESCRIPTION:
URL:https://shizugaku.com/event/b%e3%83%97%e3%83%aa%e3%83%b3%e3%82%b9%e6%9d%b1%e6%b5%b7-vs%e6%b8%85%e6%b0%b4%e3%82%a8%e3%82%b9%e3%83%91%e3%83%ab%e3%82%b9/
LOCATION:エスパルス三保G
END:VEVENT
BEGIN:VEVENT
DTSTART;TZID=Asia/Tokyo:20251011T110000
DTEND;TZID=Asia/Tokyo:20251011T130000
DTSTAMP:20260421T095510
CREATED:20250910T013809Z
LAST-MODIFIED:20250910T013809Z
UID:3144-1760180400-1760187600@shizugaku.com
SUMMARY:(A)プレミアWEST vs名古屋グランパス
DESCRIPTION:
URL:https://shizugaku.com/event/a%e3%83%97%e3%83%ac%e3%83%9f%e3%82%a2west-vs%e5%90%8d%e5%8f%a4%e5%b1%8b%e3%82%b0%e3%83%a9%e3%83%b3%e3%83%91%e3%82%b9/
LOCATION:時之栖A
END:VEVENT
BEGIN:VEVENT
DTSTART;TZID=Asia/Tokyo:20251005T130000
DTEND;TZID=Asia/Tokyo:20251005T150000
DTSTAMP:20260421T095510
CREATED:20250910T013214Z
LAST-MODIFIED:20250910T013232Z
UID:3134-1759669200-1759676400@shizugaku.com
SUMMARY:(A)プレミアWEST vsファジアーノ岡山
DESCRIPTION:
URL:https://shizugaku.com/event/%e3%83%97%e3%83%ac%e3%83%9f%e3%82%a2west-vs%e3%83%95%e3%82%a1%e3%82%b8%e3%82%a2%e3%83%bc%e3%83%8e%e5%b2%a1%e5%b1%b1/
LOCATION:時之栖A
END:VEVENT
BEGIN:VEVENT
DTSTART;TZID=Asia/Tokyo:20251005T123000
DTEND;TZID=Asia/Tokyo:20251005T143000
DTSTAMP:20260421T095510
CREATED:20250910T013400Z
LAST-MODIFIED:20250910T013400Z
UID:3138-1759667400-1759674600@shizugaku.com
SUMMARY:(D)県Bリーグ vs藤枝明誠3rd
DESCRIPTION:
URL:https://shizugaku.com/event/d%e7%9c%8cb%e3%83%aa%e3%83%bc%e3%82%b0-vs%e8%97%a4%e6%9e%9d%e6%98%8e%e8%aa%a03rd/
LOCATION:桜が丘G
END:VEVENT
BEGIN:VEVENT
DTSTART;TZID=Asia/Tokyo:20251005T120000
DTEND;TZID=Asia/Tokyo:20251005T140000
DTSTAMP:20260421T095510
CREATED:20250910T013624Z
LAST-MODIFIED:20250910T013624Z
UID:3141-1759665600-1759672800@shizugaku.com
SUMMARY:(1年)県Cリーグ vs東海大翔洋2nd
DESCRIPTION:
URL:https://shizugaku.com/event/1%e5%b9%b4%e7%9c%8cc%e3%83%aa%e3%83%bc%e3%82%b0-vs%e6%9d%b1%e6%b5%b7%e5%a4%a7%e7%bf%94%e6%b4%8b2nd/
LOCATION:東海BOF
END:VEVENT
BEGIN:VEVENT
DTSTART;TZID=Asia/Tokyo:20251004T123000
DTEND;TZID=Asia/Tokyo:20251004T143000
DTSTAMP:20260421T095510
CREATED:20250910T013110Z
LAST-MODIFIED:20250910T013110Z
UID:3132-1759581000-1759588200@shizugaku.com
SUMMARY:(C)県Aリーグ vs藤枝明誠2nd
DESCRIPTION:
URL:https://shizugaku.com/event/c%e7%9c%8ca%e3%83%aa%e3%83%bc%e3%82%b0-vs%e8%97%a4%e6%9e%9d%e6%98%8e%e8%aa%a02nd/
LOCATION:非公開: 静清高田G
END:VEVENT
BEGIN:VEVENT
DTSTART;TZID=Asia/Tokyo:20250927T160000
DTEND;TZID=Asia/Tokyo:20250927T180000
DTSTAMP:20260421T095510
CREATED:20250909T135040Z
LAST-MODIFIED:20250910T012631Z
UID:3118-1758988800-1758996000@shizugaku.com
SUMMARY:(A)プレミアWEST vsガンバ大阪
DESCRIPTION:
URL:https://shizugaku.com/event/%e3%83%97%e3%83%ac%e3%83%9f%e3%82%a2west-vs%e3%82%ac%e3%83%b3%e3%83%90%e5%a4%a7%e9%98%aa/
LOCATION:時之栖A
END:VEVENT
BEGIN:VEVENT
DTSTART;TZID=Asia/Tokyo:20250927T130000
DTEND;TZID=Asia/Tokyo:20250927T150000
DTSTAMP:20260421T095510
CREATED:20250910T011819Z
LAST-MODIFIED:20250910T012638Z
UID:3120-1758978000-1758985200@shizugaku.com
SUMMARY:(B)プリンス東海 vs 帝京可児
DESCRIPTION:
URL:https://shizugaku.com/event/%e3%83%97%e3%83%aa%e3%83%b3%e3%82%b9%e6%9d%b1%e6%b5%b7-vs-%e5%b8%9d%e4%ba%ac%e5%8f%af%e5%85%90/
LOCATION:時之栖A
END:VEVENT
BEGIN:VEVENT
DTSTART;TZID=Asia/Tokyo:20250927T123000
DTEND;TZID=Asia/Tokyo:20250927T143000
DTSTAMP:20260421T095510
CREATED:20250910T012206Z
LAST-MODIFIED:20250910T012622Z
UID:3125-1758976200-1758983400@shizugaku.com
SUMMARY:(D)県Bリーグ vsエスパルス2nd
DESCRIPTION:
URL:https://shizugaku.com/event/d%e7%9c%8cb%e3%83%aa%e3%83%bc%e3%82%b0-vs%e3%82%a8%e3%82%b9%e3%83%91%e3%83%ab%e3%82%b92nd/
LOCATION:非公開: 開誠館総合G
END:VEVENT
BEGIN:VEVENT
DTSTART;TZID=Asia/Tokyo:20250927T100000
DTEND;TZID=Asia/Tokyo:20250927T120000
DTSTAMP:20260421T095510
CREATED:20250910T012041Z
LAST-MODIFIED:20250910T012610Z
UID:3122-1758967200-1758974400@shizugaku.com
SUMMARY:(C)県Aリーグ vs浜松開誠館2nd
DESCRIPTION:
URL:https://shizugaku.com/event/%e7%9c%8ca%e3%83%aa%e3%83%bc%e3%82%b0-vs%e6%b5%9c%e6%9d%be%e9%96%8b%e8%aa%a0%e9%a4%a82nd/
LOCATION:非公開: 開誠館総合G
END:VEVENT
BEGIN:VEVENT
DTSTART;TZID=Asia/Tokyo:20250923T123000
DTEND;TZID=Asia/Tokyo:20250923T143000
DTSTAMP:20260421T095510
CREATED:20250916T133440Z
LAST-MODIFIED:20250916T133633Z
UID:3196-1758630600-1758637800@shizugaku.com
SUMMARY:(C)県Aリーグ vs清水東(延期分)
DESCRIPTION:
URL:https://shizugaku.com/event/c%e7%9c%8ca%e3%83%aa%e3%83%bc%e3%82%b0-vs%e6%b8%85%e6%b0%b4%e6%9d%b1%e5%bb%b6%e6%9c%9f%e5%88%86/
LOCATION:時之栖舟久保F
END:VEVENT
BEGIN:VEVENT
DTSTART;TZID=Asia/Tokyo:20250923T100000
DTEND;TZID=Asia/Tokyo:20250923T120000
DTSTAMP:20260421T095510
CREATED:20250916T133536Z
LAST-MODIFIED:20250916T133536Z
UID:3200-1758621600-1758628800@shizugaku.com
SUMMARY:(D)県Bリーグ vs静清(延期分)
DESCRIPTION:
URL:https://shizugaku.com/event/d%e7%9c%8cb%e3%83%aa%e3%83%bc%e3%82%b0-vs%e9%9d%99%e6%b8%85%e5%bb%b6%e6%9c%9f%e5%88%86/
LOCATION:時之栖舟久保F
END:VEVENT
BEGIN:VEVENT
DTSTART;TZID=Asia/Tokyo:20250921T100000
DTEND;TZID=Asia/Tokyo:20250921T120000
DTSTAMP:20260421T095510
CREATED:20250917T032349Z
LAST-MODIFIED:20250917T140546Z
UID:3209-1758448800-1758456000@shizugaku.com
SUMMARY:(A) プレミアWEST vs東福岡
DESCRIPTION:
URL:https://shizugaku.com/event/a-%e3%83%97%e3%83%ac%e3%83%9f%e3%82%a2west-vs%e6%9d%b1%e7%a6%8f%e5%b2%a1/
LOCATION:ベスト電器スタジアム
END:VEVENT
BEGIN:VEVENT
DTSTART;TZID=Asia/Tokyo:20250920T123000
DTEND;TZID=Asia/Tokyo:20250920T143000
DTSTAMP:20260421T095510
CREATED:20250909T044740Z
LAST-MODIFIED:20250910T012806Z
UID:3106-1758371400-1758378600@shizugaku.com
SUMMARY:(C)県Aリーグ vs浜名
DESCRIPTION:
URL:https://shizugaku.com/event/c%e7%9c%8ca%e3%83%aa%e3%83%bc%e3%82%b0-vs%e6%b5%9c%e5%90%8d/
LOCATION:非公開: 藤枝東G
END:VEVENT
BEGIN:VEVENT
DTSTART;TZID=Asia/Tokyo:20250920T110000
DTEND;TZID=Asia/Tokyo:20250920T130000
DTSTAMP:20260421T095510
CREATED:20250909T045048Z
LAST-MODIFIED:20250910T012557Z
UID:3111-1758366000-1758373200@shizugaku.com
SUMMARY:(B)プリンス東海 vs東海大翔洋
DESCRIPTION:
URL:https://shizugaku.com/event/b%e3%83%97%e3%83%aa%e3%83%b3%e3%82%b9%e6%9d%b1%e6%b5%b7-vs%e6%9d%b1%e6%b5%b7%e5%a4%a7%e7%bf%94%e6%b4%8b/
LOCATION:非公開: フジスパーク
END:VEVENT
BEGIN:VEVENT
DTSTART;TZID=Asia/Tokyo:20250920T100000
DTEND;TZID=Asia/Tokyo:20250920T120000
DTSTAMP:20260421T095510
CREATED:20250909T044842Z
LAST-MODIFIED:20250910T012516Z
UID:3109-1758362400-1758369600@shizugaku.com
SUMMARY:(D)県Bリーグ vsアスルクラロ沼津
DESCRIPTION:
URL:https://shizugaku.com/event/d%e7%9c%8cb%e3%83%aa%e3%83%bc%e3%82%b0-vs%e3%82%a2%e3%82%b9%e3%83%ab%e3%82%af%e3%83%a9%e3%83%ad%e6%b2%bc%e6%b4%a5/
LOCATION:非公開: 静清高田G
END:VEVENT
BEGIN:VEVENT
DTSTART;TZID=Asia/Tokyo:20250914T160000
DTEND;TZID=Asia/Tokyo:20250914T190000
DTSTAMP:20260421T095510
CREATED:20250909T043620Z
LAST-MODIFIED:20250910T012529Z
UID:3093-1757865600-1757876400@shizugaku.com
SUMMARY:(B)TM vs土岐商業
DESCRIPTION:
URL:https://shizugaku.com/event/tm-vs%e5%9c%9f%e5%b2%90%e5%95%86%e6%a5%ad/
LOCATION:非公開: 静岡学園学校G
END:VEVENT
BEGIN:VEVENT
DTSTART;TZID=Asia/Tokyo:20250914T100000
DTEND;TZID=Asia/Tokyo:20250914T120000
DTSTAMP:20260421T095510
CREATED:20250909T043604Z
LAST-MODIFIED:20250910T012506Z
UID:3090-1757844000-1757851200@shizugaku.com
SUMMARY:(1年)県Cリーグ vs藤枝明誠4th
DESCRIPTION:
URL:https://shizugaku.com/event/%e7%9c%8cc%e3%83%aa%e3%83%bc%e3%82%b0-vs%e8%97%a4%e6%9e%9d%e6%98%8e%e8%aa%a04th/
LOCATION:非公開: 藤枝明誠高校
END:VEVENT
BEGIN:VEVENT
DTSTART;TZID=Asia/Tokyo:20250913T160000
DTEND;TZID=Asia/Tokyo:20250913T180000
DTSTAMP:20260421T095510
CREATED:20250909T043805Z
LAST-MODIFIED:20250910T012457Z
UID:3085-1757779200-1757786400@shizugaku.com
SUMMARY:(B)プリンス東海 vs藤枝明誠
DESCRIPTION:
URL:https://shizugaku.com/event/%e3%83%97%e3%83%aa%e3%83%b3%e3%82%b9%e6%9d%b1%e6%b5%b7-vs%e8%97%a4%e6%9e%9d%e6%98%8e%e8%aa%a0/
LOCATION:非公開: 藤枝明誠高校
END:VEVENT
BEGIN:VEVENT
DTSTART;TZID=Asia/Tokyo:20250913T160000
DTEND;TZID=Asia/Tokyo:20250913T180000
DTSTAMP:20260421T095510
CREATED:20250909T043735Z
LAST-MODIFIED:20250910T012444Z
UID:3087-1757779200-1757786400@shizugaku.com
SUMMARY:(A)プレミアWEST vsサガン鳥栖
DESCRIPTION:
URL:https://shizugaku.com/event/%e3%83%97%e3%83%ac%e3%83%9f%e3%82%a2west-vs%e3%82%b5%e3%82%ac%e3%83%b3%e9%b3%a5%e6%a0%96/
LOCATION:時之栖A
END:VEVENT
BEGIN:VEVENT
DTSTART;TZID=Asia/Tokyo:20250913T123000
DTEND;TZID=Asia/Tokyo:20250913T143000
DTSTAMP:20260421T095510
CREATED:20250909T043832Z
LAST-MODIFIED:20250910T012433Z
UID:3081-1757766600-1757773800@shizugaku.com
SUMMARY:(C)県Aリーグ vs清水東
DESCRIPTION:
URL:https://shizugaku.com/event/%e7%9c%8cc%e3%83%aa%e3%83%bc%e3%82%b0-vs%e6%b8%85%e6%b0%b4%e6%9d%b1/
LOCATION:非公開: 静清高田G
END:VEVENT
BEGIN:VEVENT
DTSTART;TZID=Asia/Tokyo:20250913T100000
DTEND;TZID=Asia/Tokyo:20250913T120000
DTSTAMP:20260421T095510
CREATED:20250909T043718Z
LAST-MODIFIED:20250910T012421Z
UID:3079-1757757600-1757764800@shizugaku.com
SUMMARY:(D)県Bリーグ vs静清
DESCRIPTION:
URL:https://shizugaku.com/event/%e7%9c%8cb%e3%83%aa%e3%83%bc%e3%82%b0-vs%e9%9d%99%e6%b8%85/
LOCATION:非公開: 静清高田G
END:VEVENT
BEGIN:VEVENT
DTSTART;TZID=Asia/Tokyo:20250913T090000
DTEND;TZID=Asia/Tokyo:20250915T170000
DTSTAMP:20260421T095510
CREATED:20250909T043744Z
LAST-MODIFIED:20250910T012408Z
UID:3076-1757754000-1757955600@shizugaku.com
SUMMARY:(1年)NBカップ
DESCRIPTION:
URL:https://shizugaku.com/event/nb%e3%82%ab%e3%83%83%e3%83%97/
LOCATION:時之栖
END:VEVENT
BEGIN:VEVENT
DTSTART;TZID=Asia/Tokyo:20250910T100000
DTEND;TZID=Asia/Tokyo:20250910T140000
DTSTAMP:20260421T095510
CREATED:20250910T014016Z
LAST-MODIFIED:20250910T014016Z
UID:3148-1757498400-1757512800@shizugaku.com
SUMMARY:(C)TM vs共愛学園
DESCRIPTION:
URL:https://shizugaku.com/event/ctm-vs%e5%85%b1%e6%84%9b%e5%ad%a6%e5%9c%92/
LOCATION:非公開: フジスパーク
END:VEVENT
END:VCALENDAR