BEGIN:VCALENDAR
VERSION:2.0
PRODID:-//​静岡学園高等学校サッカー部オフィシャルサイト - ECPv6.15.12.2//NONSGML v1.0//EN
CALSCALE:GREGORIAN
METHOD:PUBLISH
X-ORIGINAL-URL:https://shizugaku.com
X-WR-CALDESC:​静岡学園高等学校サッカー部オフィシャルサイト のイベント
REFRESH-INTERVAL;VALUE=DURATION:PT1H
X-Robots-Tag:noindex
X-PUBLISHED-TTL:PT1H
BEGIN:VTIMEZONE
TZID:Asia/Tokyo
BEGIN:STANDARD
TZOFFSETFROM:+0900
TZOFFSETTO:+0900
TZNAME:JST
DTSTART:20250101T000000
END:STANDARD
END:VTIMEZONE
BEGIN:VEVENT
DTSTART;TZID=Asia/Tokyo:20260418T123000
DTEND;TZID=Asia/Tokyo:20260418T143000
DTSTAMP:20260424T193332
CREATED:20260401T091927Z
LAST-MODIFIED:20260401T091927Z
UID:3769-1776515400-1776522600@shizugaku.com
SUMMARY:(C)県Bリーグ vs浜松開誠館3rd
DESCRIPTION:
URL:https://shizugaku.com/event/c%e7%9c%8cb%e3%83%aa%e3%83%bc%e3%82%b0-vs%e6%b5%9c%e6%9d%be%e9%96%8b%e8%aa%a0%e9%a4%a83rd/
LOCATION:清水桜が丘G
END:VEVENT
BEGIN:VEVENT
DTSTART;TZID=Asia/Tokyo:20260419T100000
DTEND;TZID=Asia/Tokyo:20260419T120000
DTSTAMP:20260424T193332
CREATED:20260401T091745Z
LAST-MODIFIED:20260401T091745Z
UID:3767-1776592800-1776600000@shizugaku.com
SUMMARY:(B)県Aリーグ vs藤枝明誠2nd
DESCRIPTION:
URL:https://shizugaku.com/event/b%e7%9c%8ca%e3%83%aa%e3%83%bc%e3%82%b0-vs%e8%97%a4%e6%9e%9d%e6%98%8e%e8%aa%a02nd/
LOCATION:非公開: 藤枝明誠高校
END:VEVENT
BEGIN:VEVENT
DTSTART;TZID=Asia/Tokyo:20260425T110000
DTEND;TZID=Asia/Tokyo:20260425T130000
DTSTAMP:20260424T193332
CREATED:20260401T090216Z
LAST-MODIFIED:20260401T090216Z
UID:3750-1777114800-1777122000@shizugaku.com
SUMMARY:(A)プリンス東海 vs帝京大学可児
DESCRIPTION:
URL:https://shizugaku.com/event/a%e3%83%97%e3%83%aa%e3%83%b3%e3%82%b9%e6%9d%b1%e6%b5%b7-vs%e5%b8%9d%e4%ba%ac%e5%a4%a7%e5%ad%a6%e5%8f%af%e5%85%90/
LOCATION:時之栖A
END:VEVENT
BEGIN:VEVENT
DTSTART;TZID=Asia/Tokyo:20260425T123000
DTEND;TZID=Asia/Tokyo:20260425T143000
DTSTAMP:20260424T193332
CREATED:20260401T092043Z
LAST-MODIFIED:20260401T092043Z
UID:3772-1777120200-1777127400@shizugaku.com
SUMMARY:(B)県Aリーグ vs清水東
DESCRIPTION:
URL:https://shizugaku.com/event/b%e7%9c%8ca%e3%83%aa%e3%83%bc%e3%82%b0-vs%e6%b8%85%e6%b0%b4%e6%9d%b1/
LOCATION:非公開: 藤枝東G
END:VEVENT
BEGIN:VEVENT
DTSTART;TZID=Asia/Tokyo:20260425T123000
DTEND;TZID=Asia/Tokyo:20260425T143000
DTSTAMP:20260424T193332
CREATED:20260401T114737Z
LAST-MODIFIED:20260401T114737Z
UID:3774-1777120200-1777127400@shizugaku.com
SUMMARY:(C)県Bリーグ vsアスルクラロ沼津
DESCRIPTION:
URL:https://shizugaku.com/event/c%e7%9c%8cb%e3%83%aa%e3%83%bc%e3%82%b0-vs%e3%82%a2%e3%82%b9%e3%83%ab%e3%82%af%e3%83%a9%e3%83%ad%e6%b2%bc%e6%b4%a5/
LOCATION:飛龍高校G
END:VEVENT
BEGIN:VEVENT
DTSTART;TZID=Asia/Tokyo:20260426T120000
DTEND;TZID=Asia/Tokyo:20260426T140000
DTSTAMP:20260424T193332
CREATED:20260401T115322Z
LAST-MODIFIED:20260401T115322Z
UID:3784-1777204800-1777212000@shizugaku.com
SUMMARY:(D)県Cリーグ vs清水東2nd
DESCRIPTION:
URL:https://shizugaku.com/event/d%e7%9c%8cc%e3%83%aa%e3%83%bc%e3%82%b0-vs%e6%b8%85%e6%b0%b4%e6%9d%b12nd/
LOCATION:飛龍高校G
END:VEVENT
BEGIN:VEVENT
DTSTART;TZID=Asia/Tokyo:20260429T130000
DTEND;TZID=Asia/Tokyo:20260429T150000
DTSTAMP:20260424T193332
CREATED:20260424T043702Z
LAST-MODIFIED:20260424T043702Z
UID:3897-1777467600-1777474800@shizugaku.com
SUMMARY:(1年)ルーキーリーグ vs山梨学院
DESCRIPTION:
URL:https://shizugaku.com/event/1%e5%b9%b4%e3%83%ab%e3%83%bc%e3%82%ad%e3%83%bc%e3%83%aa%e3%83%bc%e3%82%b0-vs%e5%b1%b1%e6%a2%a8%e5%ad%a6%e9%99%a2/
LOCATION:山梨学院和戸G
END:VEVENT
BEGIN:VEVENT
DTSTART;TZID=Asia/Tokyo:20260502T150000
DTEND;TZID=Asia/Tokyo:20260502T170000
DTSTAMP:20260424T193332
CREATED:20260401T090326Z
LAST-MODIFIED:20260401T090326Z
UID:3752-1777734000-1777741200@shizugaku.com
SUMMARY:(A)プリンス東海 vs藤枝明誠
DESCRIPTION:
URL:https://shizugaku.com/event/a%e3%83%97%e3%83%aa%e3%83%b3%e3%82%b9%e6%9d%b1%e6%b5%b7-vs%e8%97%a4%e6%9e%9d%e6%98%8e%e8%aa%a0/
LOCATION:非公開: 藤枝明誠高校
END:VEVENT
BEGIN:VEVENT
DTSTART;TZID=Asia/Tokyo:20260503T070000
DTEND;TZID=Asia/Tokyo:20260503T200000
DTSTAMP:20260424T193332
CREATED:20260424T043057Z
LAST-MODIFIED:20260424T043057Z
UID:3883-1777791600-1777838400@shizugaku.com
SUMMARY:(B)関東遠征
DESCRIPTION:
URL:https://shizugaku.com/event/b%e9%96%a2%e6%9d%b1%e9%81%a0%e5%be%81/
END:VEVENT
BEGIN:VEVENT
DTSTART;TZID=Asia/Tokyo:20260503T070000
DTEND;TZID=Asia/Tokyo:20260503T200000
DTSTAMP:20260424T193332
CREATED:20260424T043306Z
LAST-MODIFIED:20260424T043306Z
UID:3889-1777791600-1777838400@shizugaku.com
SUMMARY:(1年)流経カップ
DESCRIPTION:
URL:https://shizugaku.com/event/1%e5%b9%b4%e6%b5%81%e7%b5%8c%e3%82%ab%e3%83%83%e3%83%97/
END:VEVENT
BEGIN:VEVENT
DTSTART;TZID=Asia/Tokyo:20260504T070000
DTEND;TZID=Asia/Tokyo:20260504T200000
DTSTAMP:20260424T193332
CREATED:20260424T043126Z
LAST-MODIFIED:20260424T043126Z
UID:3885-1777878000-1777924800@shizugaku.com
SUMMARY:(B)関東遠征
DESCRIPTION:
URL:https://shizugaku.com/event/b%e9%96%a2%e6%9d%b1%e9%81%a0%e5%be%81-2/
END:VEVENT
BEGIN:VEVENT
DTSTART;TZID=Asia/Tokyo:20260504T070000
DTEND;TZID=Asia/Tokyo:20260504T200000
DTSTAMP:20260424T193332
CREATED:20260424T043324Z
LAST-MODIFIED:20260424T043324Z
UID:3891-1777878000-1777924800@shizugaku.com
SUMMARY:(1年)流経カップ
DESCRIPTION:
URL:https://shizugaku.com/event/1%e5%b9%b4%e6%b5%81%e7%b5%8c%e3%82%ab%e3%83%83%e3%83%97-2/
END:VEVENT
BEGIN:VEVENT
DTSTART;TZID=Asia/Tokyo:20260505T070000
DTEND;TZID=Asia/Tokyo:20260505T200000
DTSTAMP:20260424T193332
CREATED:20260424T043155Z
LAST-MODIFIED:20260424T043155Z
UID:3887-1777964400-1778011200@shizugaku.com
SUMMARY:(B)関東遠征
DESCRIPTION:
URL:https://shizugaku.com/event/b%e9%96%a2%e6%9d%b1%e9%81%a0%e5%be%81-3/
END:VEVENT
BEGIN:VEVENT
DTSTART;TZID=Asia/Tokyo:20260505T070000
DTEND;TZID=Asia/Tokyo:20260505T200000
DTSTAMP:20260424T193332
CREATED:20260424T043342Z
LAST-MODIFIED:20260424T043342Z
UID:3893-1777964400-1778011200@shizugaku.com
SUMMARY:(1年)流経カップ
DESCRIPTION:
URL:https://shizugaku.com/event/1%e5%b9%b4%e6%b5%81%e7%b5%8c%e3%82%ab%e3%83%83%e3%83%97-3/
END:VEVENT
BEGIN:VEVENT
DTSTART;TZID=Asia/Tokyo:20260506T070000
DTEND;TZID=Asia/Tokyo:20260506T200000
DTSTAMP:20260424T193332
CREATED:20260424T043400Z
LAST-MODIFIED:20260424T043400Z
UID:3895-1778050800-1778097600@shizugaku.com
SUMMARY:(1年)流経カップ
DESCRIPTION:
URL:https://shizugaku.com/event/1%e5%b9%b4%e6%b5%81%e7%b5%8c%e3%82%ab%e3%83%83%e3%83%97-4/
END:VEVENT
BEGIN:VEVENT
DTSTART;TZID=Asia/Tokyo:20260506T110000
DTEND;TZID=Asia/Tokyo:20260506T130000
DTSTAMP:20260424T193332
CREATED:20260401T090435Z
LAST-MODIFIED:20260401T090435Z
UID:3754-1778065200-1778072400@shizugaku.com
SUMMARY:(A)プリンス東海 vs東海大翔洋
DESCRIPTION:
URL:https://shizugaku.com/event/a%e3%83%97%e3%83%aa%e3%83%b3%e3%82%b9%e6%9d%b1%e6%b5%b7-vs%e6%9d%b1%e6%b5%b7%e5%a4%a7%e7%bf%94%e6%b4%8b/
LOCATION:草薙陸上競技場
END:VEVENT
BEGIN:VEVENT
DTSTART;TZID=Asia/Tokyo:20260509T110000
DTEND;TZID=Asia/Tokyo:20260509T130000
DTSTAMP:20260424T193332
CREATED:20260401T090528Z
LAST-MODIFIED:20260401T090528Z
UID:3756-1778324400-1778331600@shizugaku.com
SUMMARY:(A)プリンス東海 vs藤枝東
DESCRIPTION:
URL:https://shizugaku.com/event/a%e3%83%97%e3%83%aa%e3%83%b3%e3%82%b9%e6%9d%b1%e6%b5%b7-vs%e8%97%a4%e6%9e%9d%e6%9d%b1/
LOCATION:時之栖A
END:VEVENT
BEGIN:VEVENT
DTSTART;TZID=Asia/Tokyo:20260517T140000
DTEND;TZID=Asia/Tokyo:20260517T160000
DTSTAMP:20260424T193332
CREATED:20260424T043843Z
LAST-MODIFIED:20260424T043843Z
UID:3900-1779026400-1779033600@shizugaku.com
SUMMARY:(1年)ルーキーリーグ vs駒澤
DESCRIPTION:
URL:https://shizugaku.com/event/1%e5%b9%b4%e3%83%ab%e3%83%bc%e3%82%ad%e3%83%bc%e3%83%aa%e3%83%bc%e3%82%b0-vs%e9%a7%92%e6%be%a4/
LOCATION:非公開: 静岡学園学校G
END:VEVENT
BEGIN:VEVENT
DTSTART;TZID=Asia/Tokyo:20260531T133000
DTEND;TZID=Asia/Tokyo:20260531T153000
DTSTAMP:20260424T193332
CREATED:20260424T044055Z
LAST-MODIFIED:20260424T044055Z
UID:3902-1780234200-1780241400@shizugaku.com
SUMMARY:(1年)ルーキーリーグ vs日大藤沢
DESCRIPTION:
URL:https://shizugaku.com/event/1%e5%b9%b4%e3%83%ab%e3%83%bc%e3%82%ad%e3%83%bc%e3%83%aa%e3%83%bc%e3%82%b0-vs%e6%97%a5%e5%a4%a7%e8%97%a4%e6%b2%a2/
LOCATION:日大藤沢G
END:VEVENT
BEGIN:VEVENT
DTSTART;TZID=Asia/Tokyo:20260613T110000
DTEND;TZID=Asia/Tokyo:20260613T130000
DTSTAMP:20260424T193332
CREATED:20260424T045104Z
LAST-MODIFIED:20260424T045104Z
UID:3917-1781348400-1781355600@shizugaku.com
SUMMARY:(A)プリンス東海 vs浜松開誠館
DESCRIPTION:
URL:https://shizugaku.com/event/a%e3%83%97%e3%83%aa%e3%83%b3%e3%82%b9%e6%9d%b1%e6%b5%b7-vs%e6%b5%9c%e6%9d%be%e9%96%8b%e8%aa%a0%e9%a4%a8/
LOCATION:時之栖A
END:VEVENT
BEGIN:VEVENT
DTSTART;TZID=Asia/Tokyo:20260614T150000
DTEND;TZID=Asia/Tokyo:20260614T170000
DTSTAMP:20260424T193332
CREATED:20260401T120141Z
LAST-MODIFIED:20260401T120141Z
UID:3791-1781449200-1781456400@shizugaku.com
SUMMARY:(1年)中部1部リーグ vs清流館
DESCRIPTION:
URL:https://shizugaku.com/event/1%e5%b9%b4%e4%b8%ad%e9%83%a81%e9%83%a8%e3%83%aa%e3%83%bc%e3%82%b0-vs%e6%b8%85%e6%b5%81%e9%a4%a8/
LOCATION:静岡学園高校G
END:VEVENT
BEGIN:VEVENT
DTSTART;TZID=Asia/Tokyo:20260621T130000
DTEND;TZID=Asia/Tokyo:20260621T150000
DTSTAMP:20260424T193332
CREATED:20260424T044258Z
LAST-MODIFIED:20260424T044258Z
UID:3905-1782046800-1782054000@shizugaku.com
SUMMARY:(1年)ルーキーリーグ vs西武台
DESCRIPTION:
URL:https://shizugaku.com/event/1%e5%b9%b4%e3%83%ab%e3%83%bc%e3%82%ad%e3%83%bc%e3%83%aa%e3%83%bc%e3%82%b0-vs%e8%a5%bf%e6%ad%a6%e5%8f%b0/
LOCATION:西武台高校第二G
END:VEVENT
BEGIN:VEVENT
DTSTART;TZID=Asia/Tokyo:20260627T140000
DTEND;TZID=Asia/Tokyo:20260627T160000
DTSTAMP:20260424T193332
CREATED:20260424T045200Z
LAST-MODIFIED:20260424T045200Z
UID:3919-1782568800-1782576000@shizugaku.com
SUMMARY:(A)プリンス東海 vs清水エスパルスユース
DESCRIPTION:
URL:https://shizugaku.com/event/a%e3%83%97%e3%83%aa%e3%83%b3%e3%82%b9%e6%9d%b1%e6%b5%b7-vs%e6%b8%85%e6%b0%b4%e3%82%a8%e3%82%b9%e3%83%91%e3%83%ab%e3%82%b9%e3%83%a6%e3%83%bc%e3%82%b9/
LOCATION:IAIスタジアム日本平
END:VEVENT
BEGIN:VEVENT
DTSTART;TZID=Asia/Tokyo:20260628T110000
DTEND;TZID=Asia/Tokyo:20260628T130000
DTSTAMP:20260424T193332
CREATED:20260424T044434Z
LAST-MODIFIED:20260424T044434Z
UID:3908-1782644400-1782651600@shizugaku.com
SUMMARY:(1年)ルーキーリーグ vs流経大柏
DESCRIPTION:
URL:https://shizugaku.com/event/1%e5%b9%b4%e3%83%ab%e3%83%bc%e3%82%ad%e3%83%bc%e3%83%aa%e3%83%bc%e3%82%b0-vs%e6%b5%81%e7%b5%8c%e5%a4%a7%e6%9f%8f/
LOCATION:流通経済柏G
END:VEVENT
BEGIN:VEVENT
DTSTART;TZID=Asia/Tokyo:20260704T130000
DTEND;TZID=Asia/Tokyo:20260704T150000
DTSTAMP:20260424T193332
CREATED:20260424T044557Z
LAST-MODIFIED:20260424T044557Z
UID:3911-1783170000-1783177200@shizugaku.com
SUMMARY:(1年)ルーキーリーグ vs日体大柏
DESCRIPTION:
URL:https://shizugaku.com/event/1%e5%b9%b4%e3%83%ab%e3%83%bc%e3%82%ad%e3%83%bc%e3%83%aa%e3%83%bc%e3%82%b0-vs%e6%97%a5%e4%bd%93%e5%a4%a7%e6%9f%8f/
LOCATION:日体大柏G
END:VEVENT
BEGIN:VEVENT
DTSTART;TZID=Asia/Tokyo:20260822T160000
DTEND;TZID=Asia/Tokyo:20260822T180000
DTSTAMP:20260424T193332
CREATED:20260424T044828Z
LAST-MODIFIED:20260424T044828Z
UID:3914-1787414400-1787421600@shizugaku.com
SUMMARY:(1年)ルーキーリーグ vs桐光学園
DESCRIPTION:
URL:https://shizugaku.com/event/1%e5%b9%b4%e3%83%ab%e3%83%bc%e3%82%ad%e3%83%bc%e3%83%aa%e3%83%bc%e3%82%b0-vs%e6%a1%90%e5%85%89%e5%ad%a6%e5%9c%92/
LOCATION:桐光学園高校G
END:VEVENT
END:VCALENDAR