BEGIN:VCALENDAR
VERSION:2.0
PRODID:-//​静岡学園高等学校サッカー部オフィシャルサイト - ECPv6.15.12.2//NONSGML v1.0//EN
CALSCALE:GREGORIAN
METHOD:PUBLISH
X-WR-CALNAME:​静岡学園高等学校サッカー部オフィシャルサイト
X-ORIGINAL-URL:https://shizugaku.com
X-WR-CALDESC:​静岡学園高等学校サッカー部オフィシャルサイト のイベント
REFRESH-INTERVAL;VALUE=DURATION:PT1H
X-Robots-Tag:noindex
X-PUBLISHED-TTL:PT1H
BEGIN:VTIMEZONE
TZID:Asia/Tokyo
BEGIN:STANDARD
TZOFFSETFROM:+0900
TZOFFSETTO:+0900
TZNAME:JST
DTSTART:20240101T000000
END:STANDARD
END:VTIMEZONE
BEGIN:VEVENT
DTSTART;TZID=Asia/Tokyo:20260404T110000
DTEND;TZID=Asia/Tokyo:20260404T130000
DTSTAMP:20260420T164813
CREATED:20260401T085839Z
LAST-MODIFIED:20260401T085839Z
UID:3743-1775300400-1775307600@shizugaku.com
SUMMARY:(A)プリンス東海 vs愛工大名電
DESCRIPTION:
URL:https://shizugaku.com/event/a%e3%83%97%e3%83%aa%e3%83%b3%e3%82%b9%e6%9d%b1%e6%b5%b7-vs%e6%84%9b%e5%b7%a5%e5%a4%a7%e5%90%8d%e9%9b%bb/
LOCATION:時之栖A
END:VEVENT
BEGIN:VEVENT
DTSTART;TZID=Asia/Tokyo:20260404T100000
DTEND;TZID=Asia/Tokyo:20260404T120000
DTSTAMP:20260420T164813
CREATED:20260401T091252Z
LAST-MODIFIED:20260401T091252Z
UID:3760-1775296800-1775304000@shizugaku.com
SUMMARY:(C)県Bリーグ vs東海大翔洋2nd
DESCRIPTION:
URL:https://shizugaku.com/event/c%e7%9c%8cb%e3%83%aa%e3%83%bc%e3%82%b0-vs%e6%9d%b1%e6%b5%b7%e5%a4%a7%e7%bf%94%e6%b4%8b2nd/
LOCATION:草薙球技場
END:VEVENT
BEGIN:VEVENT
DTSTART;TZID=Asia/Tokyo:20260201T130000
DTEND;TZID=Asia/Tokyo:20260201T150000
DTSTAMP:20260420T164813
CREATED:20260114T044911Z
LAST-MODIFIED:20260114T044911Z
UID:3623-1769950800-1769958000@shizugaku.com
SUMMARY:(A)新人戦 決勝vs未定
DESCRIPTION:
URL:https://shizugaku.com/event/a%e6%96%b0%e4%ba%ba%e6%88%a6-%e6%b1%ba%e5%8b%9dvs%e6%9c%aa%e5%ae%9a/
LOCATION:藤枝総合運動公園サッカー場
END:VEVENT
BEGIN:VEVENT
DTSTART;TZID=Asia/Tokyo:20260131T130000
DTEND;TZID=Asia/Tokyo:20260131T150000
DTSTAMP:20260420T164813
CREATED:20260114T044746Z
LAST-MODIFIED:20260127T042504Z
UID:3621-1769864400-1769871600@shizugaku.com
SUMMARY:(A)新人戦 準決勝vs磐田東
DESCRIPTION:
URL:https://shizugaku.com/event/a%e6%96%b0%e4%ba%ba%e6%88%a6-vs%e6%9c%aa%e5%ae%9a-4/
LOCATION:草薙陸上競技場
END:VEVENT
BEGIN:VEVENT
DTSTART;TZID=Asia/Tokyo:20260125T130000
DTEND;TZID=Asia/Tokyo:20260125T150000
DTSTAMP:20260420T164813
CREATED:20260114T044652Z
LAST-MODIFIED:20260124T073832Z
UID:3619-1769346000-1769353200@shizugaku.com
SUMMARY:(A)新人戦 準々決勝vs浜松東
DESCRIPTION:
URL:https://shizugaku.com/event/a%e6%96%b0%e4%ba%ba%e6%88%a6-vs%e6%9c%aa%e5%ae%9a-3/
LOCATION:草薙陸上競技場
END:VEVENT
BEGIN:VEVENT
DTSTART;TZID=Asia/Tokyo:20260124T130000
DTEND;TZID=Asia/Tokyo:20260124T150000
DTSTAMP:20260420T164813
CREATED:20260114T044602Z
LAST-MODIFIED:20260124T073720Z
UID:3617-1769259600-1769266800@shizugaku.com
SUMMARY:(A)新人戦 vs浜名
DESCRIPTION:
URL:https://shizugaku.com/event/a%e6%96%b0%e4%ba%ba%e6%88%a6-vs%e6%9c%aa%e5%ae%9a-2/
LOCATION:非公開: 藤枝東G
END:VEVENT
BEGIN:VEVENT
DTSTART;TZID=Asia/Tokyo:20260118T120000
DTEND;TZID=Asia/Tokyo:20260118T143000
DTSTAMP:20260420T164813
CREATED:20260114T044454Z
LAST-MODIFIED:20260117T104315Z
UID:3615-1768737600-1768746600@shizugaku.com
SUMMARY:(A)新人戦 vs静岡城北
DESCRIPTION:
URL:https://shizugaku.com/event/a%e6%96%b0%e4%ba%ba%e6%88%a6-vs%e6%9c%aa%e5%ae%9a/
LOCATION:常葉GF
END:VEVENT
BEGIN:VEVENT
DTSTART;TZID=Asia/Tokyo:20260117T120000
DTEND;TZID=Asia/Tokyo:20260117T143000
DTSTAMP:20260420T164813
CREATED:20260114T044359Z
LAST-MODIFIED:20260114T044359Z
UID:3612-1768651200-1768660200@shizugaku.com
SUMMARY:(A)新人戦 vs浜北西
DESCRIPTION:
URL:https://shizugaku.com/event/a%e6%96%b0%e4%ba%ba%e6%88%a6-vs%e6%b5%9c%e5%8c%97%e8%a5%bf/
LOCATION:常葉GF
END:VEVENT
BEGIN:VEVENT
DTSTART;TZID=Asia/Tokyo:20251214T130000
DTEND;TZID=Asia/Tokyo:20251214T150000
DTSTAMP:20260420T164813
CREATED:20251030T044819Z
LAST-MODIFIED:20251030T044819Z
UID:3417-1765717200-1765724400@shizugaku.com
SUMMARY:(A)プレミアWEST vsサンフレッチェ広島F.Cユース
DESCRIPTION:
URL:https://shizugaku.com/event/a%e3%83%97%e3%83%ac%e3%83%9f%e3%82%a2west-vs%e3%82%b5%e3%83%b3%e3%83%95%e3%83%ac%e3%83%83%e3%83%81%e3%82%a7%e5%ba%83%e5%b3%b6f-c%e3%83%a6%e3%83%bc%e3%82%b9/
LOCATION:安芸高田市サッカー公園
END:VEVENT
BEGIN:VEVENT
DTSTART;TZID=Asia/Tokyo:20251207T130000
DTEND;TZID=Asia/Tokyo:20251207T150000
DTSTAMP:20260420T164813
CREATED:20251030T044624Z
LAST-MODIFIED:20251030T044624Z
UID:3415-1765112400-1765119600@shizugaku.com
SUMMARY:(A)プレミアWEST vs神村学園
DESCRIPTION:
URL:https://shizugaku.com/event/a%e3%83%97%e3%83%ac%e3%83%9f%e3%82%a2west-vs%e7%a5%9e%e6%9d%91%e5%ad%a6%e5%9c%92/
LOCATION:時之栖A
END:VEVENT
BEGIN:VEVENT
DTSTART;TZID=Asia/Tokyo:20251206T130000
DTEND;TZID=Asia/Tokyo:20251206T150000
DTSTAMP:20260420T164813
CREATED:20251030T042622Z
LAST-MODIFIED:20251030T042622Z
UID:3407-1765026000-1765033200@shizugaku.com
SUMMARY:(B)プリンス東海 vs浜松開誠館
DESCRIPTION:
URL:https://shizugaku.com/event/b%e3%83%97%e3%83%aa%e3%83%b3%e3%82%b9%e6%9d%b1%e6%b5%b7-vs%e6%b5%9c%e6%9d%be%e9%96%8b%e8%aa%a0%e9%a4%a8/
LOCATION:浜松開誠館総合G
END:VEVENT
BEGIN:VEVENT
DTSTART;TZID=Asia/Tokyo:20251130T130000
DTEND;TZID=Asia/Tokyo:20251130T150000
DTSTAMP:20260420T164813
CREATED:20251030T042941Z
LAST-MODIFIED:20251030T042941Z
UID:3413-1764507600-1764514800@shizugaku.com
SUMMARY:(A)プレミアWEST vs帝京長岡
DESCRIPTION:
URL:https://shizugaku.com/event/a%e3%83%97%e3%83%ac%e3%83%9f%e3%82%a2west-vs%e5%b8%9d%e4%ba%ac%e9%95%b7%e5%b2%a1/
LOCATION:時之栖A
END:VEVENT
BEGIN:VEVENT
DTSTART;TZID=Asia/Tokyo:20251130T123000
DTEND;TZID=Asia/Tokyo:20251130T143000
DTSTAMP:20260420T164813
CREATED:20251031T071619Z
LAST-MODIFIED:20251031T071619Z
UID:3432-1764505800-1764513000@shizugaku.com
SUMMARY:(D)県Bリーグ vs科学技術
DESCRIPTION:
URL:https://shizugaku.com/event/d%e7%9c%8cb%e3%83%aa%e3%83%bc%e3%82%b0-vs%e7%a7%91%e5%ad%a6%e6%8a%80%e8%a1%93/
LOCATION:浜松開誠館総合G
END:VEVENT
BEGIN:VEVENT
DTSTART;TZID=Asia/Tokyo:20251130T100000
DTEND;TZID=Asia/Tokyo:20251130T120000
DTSTAMP:20260420T164813
CREATED:20251031T071520Z
LAST-MODIFIED:20251031T071520Z
UID:3430-1764496800-1764504000@shizugaku.com
SUMMARY:(C)県Aリーグ vs常葉橘
DESCRIPTION:
URL:https://shizugaku.com/event/c%e7%9c%8ca%e3%83%aa%e3%83%bc%e3%82%b0-vs%e5%b8%b8%e8%91%89%e6%a9%98/
LOCATION:非公開: 静清高田G
END:VEVENT
BEGIN:VEVENT
DTSTART;TZID=Asia/Tokyo:20251129T130000
DTEND;TZID=Asia/Tokyo:20251129T150000
DTSTAMP:20260420T164813
CREATED:20251030T042445Z
LAST-MODIFIED:20251030T042445Z
UID:3405-1764421200-1764428400@shizugaku.com
SUMMARY:(B)プリンス東海 vs名古屋グランパスU-18B
DESCRIPTION:
URL:https://shizugaku.com/event/b%e3%83%97%e3%83%aa%e3%83%b3%e3%82%b9%e6%9d%b1%e6%b5%b7-vs%e5%90%8d%e5%8f%a4%e5%b1%8b%e3%82%b0%e3%83%a9%e3%83%b3%e3%83%91%e3%82%b9u-18b/
LOCATION:非公開: フジスパーク
END:VEVENT
BEGIN:VEVENT
DTSTART;TZID=Asia/Tokyo:20251129T100000
DTEND;TZID=Asia/Tokyo:20251129T120000
DTSTAMP:20260420T164813
CREATED:20251030T045526Z
LAST-MODIFIED:20251030T045526Z
UID:3423-1764410400-1764417600@shizugaku.com
SUMMARY:(1年)県Cリーグ vsオイスカ
DESCRIPTION:
URL:https://shizugaku.com/event/1%e5%b9%b4%e7%9c%8cc%e3%83%aa%e3%83%bc%e3%82%b0-vs%e3%82%aa%e3%82%a4%e3%82%b9%e3%82%ab/
LOCATION:オイスカ浜松国際高等学校
END:VEVENT
BEGIN:VEVENT
DTSTART;TZID=Asia/Tokyo:20251122T120000
DTEND;TZID=Asia/Tokyo:20251122T140000
DTSTAMP:20260420T164813
CREATED:20251030T042825Z
LAST-MODIFIED:20251030T042825Z
UID:3410-1763812800-1763820000@shizugaku.com
SUMMARY:(A)プレミアWEST vsアビスパ福岡U-18
DESCRIPTION:
URL:https://shizugaku.com/event/a%e3%83%97%e3%83%ac%e3%83%9f%e3%82%a2west-vs%e3%82%a2%e3%83%93%e3%82%b9%e3%83%91%e7%a6%8f%e5%b2%a1u-18/
LOCATION:福岡フットボールセンターAピッチ
END:VEVENT
BEGIN:VEVENT
DTSTART;TZID=Asia/Tokyo:20251122T110000
DTEND;TZID=Asia/Tokyo:20251122T130000
DTSTAMP:20260420T164813
CREATED:20251030T042337Z
LAST-MODIFIED:20251030T042337Z
UID:3403-1763809200-1763816400@shizugaku.com
SUMMARY:(B)プリンス東海 vs富士市立
DESCRIPTION:
URL:https://shizugaku.com/event/b%e3%83%97%e3%83%aa%e3%83%b3%e3%82%b9%e6%9d%b1%e6%b5%b7-vs%e5%af%8c%e5%a3%ab%e5%b8%82%e7%ab%8b/
LOCATION:非公開: フジスパーク
END:VEVENT
BEGIN:VEVENT
DTSTART;TZID=Asia/Tokyo:20251122T100000
DTEND;TZID=Asia/Tokyo:20251122T120000
DTSTAMP:20260420T164813
CREATED:20251031T071410Z
LAST-MODIFIED:20251031T071410Z
UID:3428-1763805600-1763812800@shizugaku.com
SUMMARY:(D)県Bリーグ vs浜松開誠館3rd
DESCRIPTION:
URL:https://shizugaku.com/event/d%e7%9c%8cb%e3%83%aa%e3%83%bc%e3%82%b0-vs%e6%b5%9c%e6%9d%be%e9%96%8b%e8%aa%a0%e9%a4%a83rd/
LOCATION:浜松開誠館総合G
END:VEVENT
BEGIN:VEVENT
DTSTART;TZID=Asia/Tokyo:20251122T100000
DTEND;TZID=Asia/Tokyo:20251122T120000
DTSTAMP:20260420T164813
CREATED:20251031T071314Z
LAST-MODIFIED:20251031T071314Z
UID:3426-1763805600-1763812800@shizugaku.com
SUMMARY:(C)県Aリーグ vs清水桜が丘
DESCRIPTION:
URL:https://shizugaku.com/event/c%e7%9c%8ca%e3%83%aa%e3%83%bc%e3%82%b0-vs%e6%b8%85%e6%b0%b4%e6%a1%9c%e3%81%8c%e4%b8%98/
LOCATION:桜が丘G
END:VEVENT
BEGIN:VEVENT
DTSTART;TZID=Asia/Tokyo:20251122T100000
DTEND;TZID=Asia/Tokyo:20251122T120000
DTSTAMP:20260420T164813
CREATED:20251030T045310Z
LAST-MODIFIED:20251030T045310Z
UID:3420-1763805600-1763812800@shizugaku.com
SUMMARY:(1年)県Cリーグ vs聖隷クリストファー2nd
DESCRIPTION:
URL:https://shizugaku.com/event/1%e5%b9%b4%e7%9c%8cc%e3%83%aa%e3%83%bc%e3%82%b0-vs%e8%81%96%e9%9a%b7%e3%82%af%e3%83%aa%e3%82%b9%e3%83%88%e3%83%95%e3%82%a1%e3%83%bc2nd/
LOCATION:草薙球技場
END:VEVENT
BEGIN:VEVENT
DTSTART;TZID=Asia/Tokyo:20251108T133000
DTEND;TZID=Asia/Tokyo:20251108T153000
DTSTAMP:20260420T164813
CREATED:20251021T235321Z
LAST-MODIFIED:20251104T124330Z
UID:3365-1762608600-1762615800@shizugaku.com
SUMMARY:選手権 準決勝 vs藤枝東
DESCRIPTION:
URL:https://shizugaku.com/event/%e4%bb%ae%e9%81%b8%e6%89%8b%e6%a8%a9-%e6%ba%96%e6%b1%ba%e5%8b%9d/
LOCATION:草薙陸上競技場
END:VEVENT
BEGIN:VEVENT
DTSTART;TZID=Asia/Tokyo:20251103T103000
DTEND;TZID=Asia/Tokyo:20251103T123000
DTSTAMP:20260420T164813
CREATED:20251021T235227Z
LAST-MODIFIED:20251027T122126Z
UID:3362-1762165800-1762173000@shizugaku.com
SUMMARY:選手権 準々決勝 vs清水桜が丘
DESCRIPTION:
URL:https://shizugaku.com/event/%e4%bb%ae%e9%81%b8%e6%89%8b%e6%a8%a9-%e6%ba%96%e3%80%85%e6%b1%ba%e5%8b%9d/
LOCATION:草薙陸上競技場
END:VEVENT
BEGIN:VEVENT
DTSTART;TZID=Asia/Tokyo:20251026T103000
DTEND;TZID=Asia/Tokyo:20251026T123000
DTSTAMP:20260420T164813
CREATED:20251021T235048Z
LAST-MODIFIED:20251021T235551Z
UID:3359-1761474600-1761481800@shizugaku.com
SUMMARY:選手権 決勝T1回戦 vs浜名
DESCRIPTION:
URL:https://shizugaku.com/event/%e9%81%b8%e6%89%8b%e6%a8%a9-%e6%b1%ba%e5%8b%9dt-1%e5%9b%9e%e6%88%a6/
LOCATION:藤枝総合運動公園サッカー場
END:VEVENT
BEGIN:VEVENT
DTSTART;TZID=Asia/Tokyo:20251018T130000
DTEND;TZID=Asia/Tokyo:20251018T150000
DTSTAMP:20260420T164813
CREATED:20250910T014323Z
LAST-MODIFIED:20250910T014323Z
UID:3150-1760792400-1760799600@shizugaku.com
SUMMARY:(A) プレミアWEST vsヴィッセル神戸
DESCRIPTION:
URL:https://shizugaku.com/event/a-%e3%83%97%e3%83%ac%e3%83%9f%e3%82%a2west-vs%e3%83%b4%e3%82%a3%e3%83%83%e3%82%bb%e3%83%ab%e7%a5%9e%e6%88%b8/
LOCATION:いぶきの森球技場
END:VEVENT
BEGIN:VEVENT
DTSTART;TZID=Asia/Tokyo:20251018T110000
DTEND;TZID=Asia/Tokyo:20251018T130000
DTSTAMP:20260420T164813
CREATED:20250910T014431Z
LAST-MODIFIED:20250910T014431Z
UID:3153-1760785200-1760792400@shizugaku.com
SUMMARY:(B)プリンス東海 vsジュビロ磐田
DESCRIPTION:
URL:https://shizugaku.com/event/b%e3%83%97%e3%83%aa%e3%83%b3%e3%82%b9%e6%9d%b1%e6%b5%b7-vs%e3%82%b8%e3%83%a5%e3%83%93%e3%83%ad%e7%a3%90%e7%94%b0/
LOCATION:非公開: フジスパーク
END:VEVENT
BEGIN:VEVENT
DTSTART;TZID=Asia/Tokyo:20251013T130000
DTEND;TZID=Asia/Tokyo:20251013T150000
DTSTAMP:20260420T164813
CREATED:20251007T061930Z
LAST-MODIFIED:20251007T061930Z
UID:3295-1760360400-1760367600@shizugaku.com
SUMMARY:(B)プリンス東海 vs清水エスパルス
DESCRIPTION:
URL:https://shizugaku.com/event/b%e3%83%97%e3%83%aa%e3%83%b3%e3%82%b9%e6%9d%b1%e6%b5%b7-vs%e6%b8%85%e6%b0%b4%e3%82%a8%e3%82%b9%e3%83%91%e3%83%ab%e3%82%b9/
LOCATION:エスパルス三保G
END:VEVENT
BEGIN:VEVENT
DTSTART;TZID=Asia/Tokyo:20251011T110000
DTEND;TZID=Asia/Tokyo:20251011T130000
DTSTAMP:20260420T164813
CREATED:20250910T013809Z
LAST-MODIFIED:20250910T013809Z
UID:3144-1760180400-1760187600@shizugaku.com
SUMMARY:(A)プレミアWEST vs名古屋グランパス
DESCRIPTION:
URL:https://shizugaku.com/event/a%e3%83%97%e3%83%ac%e3%83%9f%e3%82%a2west-vs%e5%90%8d%e5%8f%a4%e5%b1%8b%e3%82%b0%e3%83%a9%e3%83%b3%e3%83%91%e3%82%b9/
LOCATION:時之栖A
END:VEVENT
BEGIN:VEVENT
DTSTART;TZID=Asia/Tokyo:20251005T130000
DTEND;TZID=Asia/Tokyo:20251005T150000
DTSTAMP:20260420T164813
CREATED:20250910T013214Z
LAST-MODIFIED:20250910T013232Z
UID:3134-1759669200-1759676400@shizugaku.com
SUMMARY:(A)プレミアWEST vsファジアーノ岡山
DESCRIPTION:
URL:https://shizugaku.com/event/%e3%83%97%e3%83%ac%e3%83%9f%e3%82%a2west-vs%e3%83%95%e3%82%a1%e3%82%b8%e3%82%a2%e3%83%bc%e3%83%8e%e5%b2%a1%e5%b1%b1/
LOCATION:時之栖A
END:VEVENT
BEGIN:VEVENT
DTSTART;TZID=Asia/Tokyo:20251005T123000
DTEND;TZID=Asia/Tokyo:20251005T143000
DTSTAMP:20260420T164813
CREATED:20250910T013400Z
LAST-MODIFIED:20250910T013400Z
UID:3138-1759667400-1759674600@shizugaku.com
SUMMARY:(D)県Bリーグ vs藤枝明誠3rd
DESCRIPTION:
URL:https://shizugaku.com/event/d%e7%9c%8cb%e3%83%aa%e3%83%bc%e3%82%b0-vs%e8%97%a4%e6%9e%9d%e6%98%8e%e8%aa%a03rd/
LOCATION:桜が丘G
END:VEVENT
END:VCALENDAR