BEGIN:VCALENDAR
VERSION:2.0
PRODID:-//​静岡学園高等学校サッカー部オフィシャルサイト - ECPv6.15.12.2//NONSGML v1.0//EN
CALSCALE:GREGORIAN
METHOD:PUBLISH
X-WR-CALNAME:​静岡学園高等学校サッカー部オフィシャルサイト
X-ORIGINAL-URL:https://shizugaku.com
X-WR-CALDESC:​静岡学園高等学校サッカー部オフィシャルサイト のイベント
REFRESH-INTERVAL;VALUE=DURATION:PT1H
X-Robots-Tag:noindex
X-PUBLISHED-TTL:PT1H
BEGIN:VTIMEZONE
TZID:Asia/Tokyo
BEGIN:STANDARD
TZOFFSETFROM:+0900
TZOFFSETTO:+0900
TZNAME:JST
DTSTART:20240101T000000
END:STANDARD
END:VTIMEZONE
BEGIN:VEVENT
DTSTART;TZID=Asia/Tokyo:20250914T160000
DTEND;TZID=Asia/Tokyo:20250914T190000
DTSTAMP:20260422T184519
CREATED:20250909T043620Z
LAST-MODIFIED:20250910T012529Z
UID:3093-1757865600-1757876400@shizugaku.com
SUMMARY:(B)TM vs土岐商業
DESCRIPTION:
URL:https://shizugaku.com/event/tm-vs%e5%9c%9f%e5%b2%90%e5%95%86%e6%a5%ad/
LOCATION:非公開: 静岡学園学校G
END:VEVENT
END:VCALENDAR